BEGIN:VCALENDAR
VERSION:2.0
PRODID:-//Fashion Revolution Denmark - ECPv6.15.20//NONSGML v1.0//EN
CALSCALE:GREGORIAN
METHOD:PUBLISH
X-ORIGINAL-URL:https://denmark.fashionrevolution.org/en
X-WR-CALDESC:Events for Fashion Revolution Denmark
REFRESH-INTERVAL;VALUE=DURATION:PT1H
X-Robots-Tag:noindex
X-PUBLISHED-TTL:PT1H
BEGIN:VTIMEZONE
TZID:Europe/Copenhagen
BEGIN:DAYLIGHT
TZOFFSETFROM:+0100
TZOFFSETTO:+0200
TZNAME:CEST
DTSTART:20250330T010000
END:DAYLIGHT
BEGIN:STANDARD
TZOFFSETFROM:+0200
TZOFFSETTO:+0100
TZNAME:CET
DTSTART:20251026T010000
END:STANDARD
BEGIN:DAYLIGHT
TZOFFSETFROM:+0100
TZOFFSETTO:+0200
TZNAME:CEST
DTSTART:20260329T010000
END:DAYLIGHT
BEGIN:STANDARD
TZOFFSETFROM:+0200
TZOFFSETTO:+0100
TZNAME:CET
DTSTART:20261025T010000
END:STANDARD
BEGIN:DAYLIGHT
TZOFFSETFROM:+0100
TZOFFSETTO:+0200
TZNAME:CEST
DTSTART:20270328T010000
END:DAYLIGHT
BEGIN:STANDARD
TZOFFSETFROM:+0200
TZOFFSETTO:+0100
TZNAME:CET
DTSTART:20271031T010000
END:STANDARD
END:VTIMEZONE
BEGIN:VEVENT
DTSTART;TZID=Europe/Copenhagen:20260107T180000
DTEND;TZID=Europe/Copenhagen:20260107T210000
DTSTAMP:20260425T210600
CREATED:20251208T202855Z
LAST-MODIFIED:20251208T203906Z
UID:782-1767808800-1767819600@denmark.fashionrevolution.org
SUMMARY:Circular Creative Community
DESCRIPTION:
URL:https://denmark.fashionrevolution.org/en/event/circular-creative-community/
CATEGORIES:Creative Community Copenhagen
ATTACH;FMTTYPE=image/jpeg:https://denmark.fashionrevolution.org/wp-content/uploads/sites/5/2025/12/WhatsApp-Image-2025-12-08-at-18.20.01.jpeg
END:VEVENT
BEGIN:VEVENT
DTSTART;TZID=Europe/Copenhagen:20260107T180000
DTEND;TZID=Europe/Copenhagen:20260107T210000
DTSTAMP:20260425T210600
CREATED:20251208T203804Z
LAST-MODIFIED:20251208T203804Z
UID:785-1767808800-1767819600@denmark.fashionrevolution.org
SUMMARY:Introduction to Sewing
DESCRIPTION:
URL:https://denmark.fashionrevolution.org/en/event/introduction-to-sewing-2/
LOCATION:Sydhavn Genbrugscenter\, Bådehavnsgade 50\, København\, Denmark
CATEGORIES:Introduction to Sewing
ATTACH;FMTTYPE=image/jpeg:https://denmark.fashionrevolution.org/wp-content/uploads/sites/5/2025/12/WhatsApp-Image-2025-12-08-at-18.20.15.jpeg
END:VEVENT
END:VCALENDAR