BEGIN:VCALENDAR
VERSION:2.0
PRODID:-//Fashion Revolution Denmark - ECPv6.15.20//NONSGML v1.0//EN
CALSCALE:GREGORIAN
METHOD:PUBLISH
X-WR-CALNAME:Fashion Revolution Denmark
X-ORIGINAL-URL:https://denmark.fashionrevolution.org/en
X-WR-CALDESC:Events for Fashion Revolution Denmark
REFRESH-INTERVAL;VALUE=DURATION:PT1H
X-Robots-Tag:noindex
X-PUBLISHED-TTL:PT1H
BEGIN:VTIMEZONE
TZID:Europe/Copenhagen
BEGIN:DAYLIGHT
TZOFFSETFROM:+0100
TZOFFSETTO:+0200
TZNAME:CEST
DTSTART:20250330T010000
END:DAYLIGHT
BEGIN:STANDARD
TZOFFSETFROM:+0200
TZOFFSETTO:+0100
TZNAME:CET
DTSTART:20251026T010000
END:STANDARD
BEGIN:DAYLIGHT
TZOFFSETFROM:+0100
TZOFFSETTO:+0200
TZNAME:CEST
DTSTART:20260329T010000
END:DAYLIGHT
BEGIN:STANDARD
TZOFFSETFROM:+0200
TZOFFSETTO:+0100
TZNAME:CET
DTSTART:20261025T010000
END:STANDARD
BEGIN:DAYLIGHT
TZOFFSETFROM:+0100
TZOFFSETTO:+0200
TZNAME:CEST
DTSTART:20270328T010000
END:DAYLIGHT
BEGIN:STANDARD
TZOFFSETFROM:+0200
TZOFFSETTO:+0100
TZNAME:CET
DTSTART:20271031T010000
END:STANDARD
END:VTIMEZONE
BEGIN:VEVENT
DTSTART;TZID=Europe/Copenhagen:20260128T180000
DTEND;TZID=Europe/Copenhagen:20260128T210000
DTSTAMP:20260425T193718
CREATED:20260110T152116Z
LAST-MODIFIED:20260110T152116Z
UID:970-1769623200-1769634000@denmark.fashionrevolution.org
SUMMARY:Circular Creative Community
DESCRIPTION:At this CCC event\, we are also hosting a talk on the Fashion Week. What is it? What does it mean?
URL:https://denmark.fashionrevolution.org/en/event/circular-creative-community-5/
LOCATION:Sydhavn Genbrugscenter\, Bådehavnsgade 50\, København\, Denmark
CATEGORIES:Creative Community Copenhagen
END:VEVENT
END:VCALENDAR