BEGIN:VCALENDAR
VERSION:2.0
PRODID:-//Fashion Revolution Denmark - ECPv6.15.20//NONSGML v1.0//EN
CALSCALE:GREGORIAN
METHOD:PUBLISH
X-WR-CALNAME:Fashion Revolution Denmark
X-ORIGINAL-URL:https://denmark.fashionrevolution.org/en
X-WR-CALDESC:Events for Fashion Revolution Denmark
REFRESH-INTERVAL;VALUE=DURATION:PT1H
X-Robots-Tag:noindex
X-PUBLISHED-TTL:PT1H
BEGIN:VTIMEZONE
TZID:Europe/Copenhagen
BEGIN:DAYLIGHT
TZOFFSETFROM:+0100
TZOFFSETTO:+0200
TZNAME:CEST
DTSTART:20240331T010000
END:DAYLIGHT
BEGIN:STANDARD
TZOFFSETFROM:+0200
TZOFFSETTO:+0100
TZNAME:CET
DTSTART:20241027T010000
END:STANDARD
BEGIN:DAYLIGHT
TZOFFSETFROM:+0100
TZOFFSETTO:+0200
TZNAME:CEST
DTSTART:20250330T010000
END:DAYLIGHT
BEGIN:STANDARD
TZOFFSETFROM:+0200
TZOFFSETTO:+0100
TZNAME:CET
DTSTART:20251026T010000
END:STANDARD
BEGIN:DAYLIGHT
TZOFFSETFROM:+0100
TZOFFSETTO:+0200
TZNAME:CEST
DTSTART:20260329T010000
END:DAYLIGHT
BEGIN:STANDARD
TZOFFSETFROM:+0200
TZOFFSETTO:+0100
TZNAME:CET
DTSTART:20261025T010000
END:STANDARD
END:VTIMEZONE
BEGIN:VTIMEZONE
TZID:Europe/London
BEGIN:DAYLIGHT
TZOFFSETFROM:+0000
TZOFFSETTO:+0100
TZNAME:BST
DTSTART:20210328T010000
END:DAYLIGHT
BEGIN:STANDARD
TZOFFSETFROM:+0100
TZOFFSETTO:+0000
TZNAME:GMT
DTSTART:20211031T010000
END:STANDARD
BEGIN:DAYLIGHT
TZOFFSETFROM:+0000
TZOFFSETTO:+0100
TZNAME:BST
DTSTART:20220327T010000
END:DAYLIGHT
BEGIN:STANDARD
TZOFFSETFROM:+0100
TZOFFSETTO:+0000
TZNAME:GMT
DTSTART:20221030T010000
END:STANDARD
BEGIN:DAYLIGHT
TZOFFSETFROM:+0000
TZOFFSETTO:+0100
TZNAME:BST
DTSTART:20230326T010000
END:DAYLIGHT
BEGIN:STANDARD
TZOFFSETFROM:+0100
TZOFFSETTO:+0000
TZNAME:GMT
DTSTART:20231029T010000
END:STANDARD
BEGIN:DAYLIGHT
TZOFFSETFROM:+0000
TZOFFSETTO:+0100
TZNAME:BST
DTSTART:20240331T010000
END:DAYLIGHT
BEGIN:STANDARD
TZOFFSETFROM:+0100
TZOFFSETTO:+0000
TZNAME:GMT
DTSTART:20241027T010000
END:STANDARD
BEGIN:DAYLIGHT
TZOFFSETFROM:+0000
TZOFFSETTO:+0100
TZNAME:BST
DTSTART:20250330T010000
END:DAYLIGHT
BEGIN:STANDARD
TZOFFSETFROM:+0100
TZOFFSETTO:+0000
TZNAME:GMT
DTSTART:20251026T010000
END:STANDARD
BEGIN:DAYLIGHT
TZOFFSETFROM:+0000
TZOFFSETTO:+0100
TZNAME:BST
DTSTART:20260329T010000
END:DAYLIGHT
BEGIN:STANDARD
TZOFFSETFROM:+0100
TZOFFSETTO:+0000
TZNAME:GMT
DTSTART:20261025T010000
END:STANDARD
END:VTIMEZONE
BEGIN:VEVENT
DTSTART;TZID=Europe/Copenhagen:20251217T180000
DTEND;TZID=Europe/Copenhagen:20251217T210000
DTSTAMP:20260426T023147
CREATED:20251208T204149Z
LAST-MODIFIED:20251208T204149Z
UID:797-1765994400-1766005200@denmark.fashionrevolution.org
SUMMARY:Creative Community Copenhagen
DESCRIPTION:
URL:https://denmark.fashionrevolution.org/en/event/creative-community-copenhagen-2/
LOCATION:Sydhavn Genbrugscenter\, Bådehavnsgade 50\, København\, Denmark
CATEGORIES:Creative Community Copenhagen
ATTACH;FMTTYPE=image/jpeg:https://denmark.fashionrevolution.org/wp-content/uploads/sites/5/2025/12/WhatsApp-Image-2025-12-08-at-18.20.01.jpeg
END:VEVENT
BEGIN:VEVENT
DTSTART;TZID=Europe/London:20251210T180000
DTEND;TZID=Europe/London:20251210T210000
DTSTAMP:20260426T023147
CREATED:20251208T204035Z
LAST-MODIFIED:20251208T204035Z
UID:795-1765389600-1765400400@denmark.fashionrevolution.org
SUMMARY:Creative Community Copenhagen
DESCRIPTION:
URL:https://denmark.fashionrevolution.org/en/event/creative-community-copenhagen/
LOCATION:Sydhavn Genbrugscenter\, Bådehavnsgade 50\, København\, Denmark
CATEGORIES:Creative Community Copenhagen
ATTACH;FMTTYPE=image/jpeg:https://denmark.fashionrevolution.org/wp-content/uploads/sites/5/2025/12/WhatsApp-Image-2025-12-08-at-18.20.01.jpeg
END:VEVENT
BEGIN:VEVENT
DTSTART;TZID=Europe/Copenhagen:20251203T180000
DTEND;TZID=Europe/Copenhagen:20251203T210000
DTSTAMP:20260426T023147
CREATED:20251208T203422Z
LAST-MODIFIED:20251208T203911Z
UID:792-1764784800-1764795600@denmark.fashionrevolution.org
SUMMARY:Introduction to Sewing
DESCRIPTION:
URL:https://denmark.fashionrevolution.org/en/event/introduction-to-sewing/
LOCATION:Sydhavn Genbrugscenter\, Bådehavnsgade 50\, København\, Denmark
CATEGORIES:Introduction to Sewing
ATTACH;FMTTYPE=image/jpeg:https://denmark.fashionrevolution.org/wp-content/uploads/sites/5/2025/12/WhatsApp-Image-2025-12-08-at-18.20.15.jpeg
END:VEVENT
BEGIN:VEVENT
DTSTART;TZID=Europe/Copenhagen:20251203T180000
DTEND;TZID=Europe/Copenhagen:20251203T210000
DTSTAMP:20260426T023147
CREATED:20251208T203239Z
LAST-MODIFIED:20251208T203653Z
UID:790-1764784800-1764795600@denmark.fashionrevolution.org
SUMMARY:Circular Creative Community
DESCRIPTION:
URL:https://denmark.fashionrevolution.org/en/event/circular-creative-community-2/
LOCATION:Sydhavn Genbrugscenter\, Bådehavnsgade 50\, København\, Denmark
CATEGORIES:Creative Community Copenhagen
ATTACH;FMTTYPE=image/jpeg:https://denmark.fashionrevolution.org/wp-content/uploads/sites/5/2025/12/WhatsApp-Image-2025-12-08-at-18.20.01.jpeg
END:VEVENT
BEGIN:VEVENT
DTSTART;TZID=Europe/London:20220110T080000
DTEND;TZID=Europe/London:20220110T170000
DTSTAMP:20260426T023147
CREATED:20240702T125628Z
LAST-MODIFIED:20240702T125628Z
UID:606-1641801600-1641834000@denmark.fashionrevolution.org
SUMMARY:Test Event
DESCRIPTION:
URL:https://denmark.fashionrevolution.org/en/event/test-event/
ATTACH;FMTTYPE=image/png:https://denmark.fashionrevolution.org/wp-content/uploads/sites/5/2021/12/Godkendt-27.09.21-part-2.png
END:VEVENT
END:VCALENDAR